BEGIN:VCALENDAR
VERSION:2.0
PRODID:-//MRORCA - ECPv4.6.11//NONSGML v1.0//EN
CALSCALE:GREGORIAN
METHOD:PUBLISH
X-WR-CALNAME:MRORCA
X-ORIGINAL-URL:https://mrorca.org.au
X-WR-CALDESC:Events for MRORCA
BEGIN:VEVENT
DTSTART;TZID=UTC+8:20180130T173000
DTEND;TZID=UTC+8:20180130T210000
DTSTAMP:20180225T044650
CREATED:20180122T101214Z
LAST-MODIFIED:20180122T102539Z
UID:9832-1517333400-1517346000@mrorca.org.au
SUMMARY:2018 Summer Series - Round 4 - Dunsborough
DESCRIPTION:\n\nJoin Margaret River Off Road Cycling Association\, Cape Mountain Bikers and Dunsborough Cycling Club in this years gravity Summer Series\n\n\n\n\nTIMED DOWN HILLS \n\n\nRACE FOR YOUR CLUB – POST EVENT SOCIALISING\n\n\nGOLD COIN DONATION ENTRY \n\n\n\n \n\n\nROUND 4 – DUNSBOROUGH – 30 JANUARY 2018\n\n\n\n\nPREREGISTER HERE \nON DAY REGISTRATIONS CLOSE 5.45 \nRACING STARTS AT 6PM \n\n\nMeet at top of Dunsborough and Districts Country Club – Post food/drinks @ Country Club\n\n\nIf you have a Race Plate from previous rounds\, do not forget it!\n\n\n \n\n\nNOTE: All participants must hold MTBA insurance or sign a waiver.  All under 18s to have a parent or guardian present.\n\n\n\n \n\n\n\n
URL:https://mrorca.org.au/event/2018-summer-series-round-4-dunsborough/
LOCATION:40 Gifford Road\, Dunsborough\, WA\, Australia
ATTACH;FMTTYPE=image/jpeg:https://mrorca.org.au/wp-content/uploads/2018/01/summer-series-image.jpg
END:VEVENT
BEGIN:VEVENT
DTSTART;TZID=UTC+8:20180130T183000
DTEND;TZID=UTC+8:20180130T210000
DTSTAMP:20180225T044650
CREATED:20160629T072542Z
LAST-MODIFIED:20160629T072542Z
UID:7256-1517337000-1517346000@mrorca.org.au
SUMMARY:Committee Meeting
DESCRIPTION:
URL:https://mrorca.org.au/event/committee-meeting-2018-01-30/
LOCATION:Western Australia
ORGANIZER;CN="MRORCA":MAILTO:info@mrorca.org.au
END:VEVENT
BEGIN:VEVENT
DTSTART;TZID=UTC+8:20180203T160000
DTEND;TZID=UTC+8:20180203T173000
DTSTAMP:20180225T044650
CREATED:20151121T220324Z
LAST-MODIFIED:20160329T122625Z
UID:6655-1517673600-1517679000@mrorca.org.au
SUMMARY:Saturday Intermediate/Advanced Ride
DESCRIPTION:Intermediate to Advanced Ride including technical features. \n
URL:https://mrorca.org.au/event/saturday-intermediate-ride-2018-02-03/
LOCATION:69 Bussell Hwy\, Margaret River\, Western Australia\, 6285\, Australia
CATEGORIES:Social Rides
ATTACH;FMTTYPE=image/jpeg:https://mrorca.org.au/wp-content/uploads/2015/11/saturday-ride.jpg
ORGANIZER;CN="MRORCA":MAILTO:info@mrorca.org.au
END:VEVENT
BEGIN:VEVENT
DTSTART;TZID=UTC+8:20180206T173000
DTEND;TZID=UTC+8:20180206T210000
DTSTAMP:20180225T044650
CREATED:20180122T102117Z
LAST-MODIFIED:20180122T104203Z
UID:9837-1517938200-1517950800@mrorca.org.au
SUMMARY:2018 Summer Series - Round 5 - Margaret River
DESCRIPTION:\n\nJoin Margaret River Off Road Cycling Association\, Cape Mountain Bikers and Dunsborough Cycling Club in this years gravity Summer Series\n\n\n\n\nTIMED DOWN HILLS \n\n\nRACE FOR YOUR CLUB – POST EVENT SOCIALISING\n\n\nGOLD COIN DONATION ENTRY \n\n\n\n \n\n\nROUND 5 – MARGARET RIVER – 23 JANUARY 2018\n\n\n\n\nPREREGISTER HERE \nON DAY REGISTRATIONS CLOSE 5.45 \nRACING STARTS AT 6PM \n\n\nMeet at top of Line Managers – Series Presentations to follow at a location TBA\n\n\nIf you have a Race Plate from previous rounds\, do not forget it!\n\n\n \n\n\nNOTE: All participants must hold MTBA insurance or sign a waiver.  All under 18s to have a parent or guardian present.\n\n\n\n \n\n\n\n
URL:https://mrorca.org.au/event/2018-summer-series-round-5-margaret-river/
LOCATION:Bramley National Park\, Margaret River\, Western Australia\, 6285\, Australia
ATTACH;FMTTYPE=image/jpeg:https://mrorca.org.au/wp-content/uploads/2018/01/summer-series-image.jpg
END:VEVENT
BEGIN:VEVENT
DTSTART;TZID=UTC+8:20180210T160000
DTEND;TZID=UTC+8:20180210T173000
DTSTAMP:20180225T044650
CREATED:20151121T220324Z
LAST-MODIFIED:20160329T122625Z
UID:6656-1518278400-1518283800@mrorca.org.au
SUMMARY:Saturday Intermediate/Advanced Ride
DESCRIPTION:Intermediate to Advanced Ride including technical features. \n
URL:https://mrorca.org.au/event/saturday-intermediate-ride-2018-02-10/
LOCATION:69 Bussell Hwy\, Margaret River\, Western Australia\, 6285\, Australia
CATEGORIES:Social Rides
ATTACH;FMTTYPE=image/jpeg:https://mrorca.org.au/wp-content/uploads/2015/11/saturday-ride.jpg
ORGANIZER;CN="MRORCA":MAILTO:info@mrorca.org.au
END:VEVENT
BEGIN:VEVENT
DTSTART;TZID=UTC+8:20180217T160000
DTEND;TZID=UTC+8:20180217T173000
DTSTAMP:20180225T044650
CREATED:20151121T220324Z
LAST-MODIFIED:20160329T122625Z
UID:6657-1518883200-1518888600@mrorca.org.au
SUMMARY:Saturday Intermediate/Advanced Ride
DESCRIPTION:Intermediate to Advanced Ride including technical features. \n
URL:https://mrorca.org.au/event/saturday-intermediate-ride-2018-02-17/
LOCATION:69 Bussell Hwy\, Margaret River\, Western Australia\, 6285\, Australia
CATEGORIES:Social Rides
ATTACH;FMTTYPE=image/jpeg:https://mrorca.org.au/wp-content/uploads/2015/11/saturday-ride.jpg
ORGANIZER;CN="MRORCA":MAILTO:info@mrorca.org.au
END:VEVENT
BEGIN:VEVENT
DTSTART;TZID=UTC+8:20180224T160000
DTEND;TZID=UTC+8:20180224T173000
DTSTAMP:20180225T044650
CREATED:20151121T220324Z
LAST-MODIFIED:20160329T122625Z
UID:6658-1519488000-1519493400@mrorca.org.au
SUMMARY:Saturday Intermediate/Advanced Ride
DESCRIPTION:Intermediate to Advanced Ride including technical features. \n
URL:https://mrorca.org.au/event/saturday-intermediate-ride-2018-02-24/
LOCATION:69 Bussell Hwy\, Margaret River\, Western Australia\, 6285\, Australia
CATEGORIES:Social Rides
ATTACH;FMTTYPE=image/jpeg:https://mrorca.org.au/wp-content/uploads/2015/11/saturday-ride.jpg
ORGANIZER;CN="MRORCA":MAILTO:info@mrorca.org.au
END:VEVENT
BEGIN:VEVENT
DTSTART;TZID=UTC+8:20180227T183000
DTEND;TZID=UTC+8:20180227T210000
DTSTAMP:20180225T044650
CREATED:20160629T072542Z
LAST-MODIFIED:20160629T072542Z
UID:7257-1519756200-1519765200@mrorca.org.au
SUMMARY:Committee Meeting
DESCRIPTION:
URL:https://mrorca.org.au/event/committee-meeting-2018-02-27/
LOCATION:Western Australia
ORGANIZER;CN="MRORCA":MAILTO:info@mrorca.org.au
END:VEVENT
BEGIN:VEVENT
DTSTART;TZID=UTC+8:20180303T160000
DTEND;TZID=UTC+8:20180303T173000
DTSTAMP:20180225T044650
CREATED:20151121T220324Z
LAST-MODIFIED:20160329T122625Z
UID:6669-1520092800-1520098200@mrorca.org.au
SUMMARY:Saturday Intermediate/Advanced Ride
DESCRIPTION:Intermediate to Advanced Ride including technical features. \n
URL:https://mrorca.org.au/event/saturday-intermediate-ride-2018-03-03/
LOCATION:69 Bussell Hwy\, Margaret River\, Western Australia\, 6285\, Australia
CATEGORIES:Social Rides
ATTACH;FMTTYPE=image/jpeg:https://mrorca.org.au/wp-content/uploads/2015/11/saturday-ride.jpg
ORGANIZER;CN="MRORCA":MAILTO:info@mrorca.org.au
END:VEVENT
END:VCALENDAR